{"text_format":"1","workbook":"xlsx","n_sheets":2,"sheets":["Calcolo pesi","Dati"],"not_rendered":{"charts":0,"images":0,"macros":1,"external_links":0,"defined_names":1,"comments":1,"pivot_tables":0},"unopened":[],"bounds":{"document_bytes":16777216,"sheet_cells":100000,"rows_first":2000,"rows_last":500,"rows_between":2000,"halvings":0,"cell_chars":16384,"cell_head_chars":4096},"cells_cut":0,"cells_raw":0,"read":"whole","date_system":"1900"}

{"sheet":"Calcolo pesi","index":0,"n_rows":34,"n_cols":16,"rows_kept":34,"cut":false,"hidden":false,"merged":[[33,2,33,4],[32,2,32,4],[1,2,1,4],[9,2,9,4],[1,13,1,15],[1,11,1,12],[1,8,1,10],[7,5,26,5]]}
[]
[null,null,"Calcolo dei pesi",null,null,null,null,"Lista dei pesi ",null,null,null,"Peso totale (Kg)",null,{"$f":"SUM(P4:P35)","v":0}]
[null,null,null,null,"V 1.10",null,null,"Materiale","Forma","Q.ta","a","b","c","d","P.unit","Peso  Q"]
[]
[]
[null,null,"Materiale"]
[]
[null,null,"Scegli forma"]
[]
[]
[null,null,{"$f":"VLOOKUP(Dati!A1,Dati!A2:D13,2,FALSE)","v":"Alluminio 6082"},{"$f":"VLOOKUP(Dati!A1,Dati!A2:D13,3,FALSE)","v":"Kg/m3"},{"$f":"VLOOKUP(Dati!A1,Dati!A2:D13,4,FALSE)","v":2700}]
[null,null,null,"Q.ta",1]
[null,null,{"$f":"VLOOKUP(Dati!$A$21,Dati!$A$22:$F$31,2,FALSE)","v":"Barra piatta"},{"$f":"IF(VLOOKUP(Dati!$A$21,Dati!$A$22:$F$31,3,FALSE)=0,\"\",VLOOKUP(Dati!$A$21,Dati!$A$22:$F$31,3,FALSE))","v":"Lato 1"},250]
[null,null,null,{"$f":"IF(VLOOKUP(Dati!$A$21,Dati!$A$22:$F$31,4,FALSE)=0,\"\",VLOOKUP(Dati!$A$21,Dati!$A$22:$F$31,4,FALSE))","v":"lato2"},885]
[null,null,null,{"$f":"IF(VLOOKUP(Dati!$A$21,Dati!$A$22:$F$31,5,FALSE)=0,\"\",VLOOKUP(Dati!$A$21,Dati!$A$22:$F$31,5,FALSE))","v":""}]
[null,null,null,{"$f":"IF(VLOOKUP(Dati!$A$21,Dati!$A$22:$F$31,6,FALSE)=0,\"\",VLOOKUP(Dati!$A$21,Dati!$A$22:$F$31,6,FALSE))","v":"Lunghezza"},5000]
[]
[null,null,"Peso","Kg",{"$f":"VLOOKUP(Dati!$A$21,Dati!$A$22:$K$31,11,FALSE)","v":2986.875}]
[null,null,"Peso totale","Kg",{"$f":"E18*E12","v":2986.875}]
[]
[]
[]
[]
[]
[]
[]
[]
[]
[]
[]
[]
[]
[null,null,"www.paganetti.it     "]
[null,null,"info@paganetti.it"]

{"sheet":"Dati","index":1,"n_rows":31,"n_cols":11,"rows_kept":31,"cut":false,"hidden":true,"merged":[]}
[7,"Materiale",null,"Peso specifico"]
[1,"Acciaio","Kg/m3",7850]
[2,"Acciaio INOX","Kg/m3",7900]
[3,"Bronzo Stagno ","Kg/m3",8933.85]
[4,"Bronzo stagno-piombo","Kg/m3",9235]
[5,"Bronzo - Alluminio","Kg/m3",7528]
[6,"Bronzo CuSn8 trafilato","Kg/m3",8900]
[7,"Alluminio 6082","Kg/m3",2700]
[8,"Alluminio 2011","Kg/m3",2820]
[9,"Ottone","Kg/m3",8400]
[10,"Ghisa","Kg/m3",7414]
[11,"Rame","Kg/m3",8920]
[12,"Piombo","Kg/m3",11340]
[]
[]
[]
[]
[]
[]
[]
[3,"Seleziona forma",null,null,null,null,null,null,null,null,{"$f":"'Calcolo pesi'!E11","v":2700}]
[1,"Barra tonda","Diametro",null,null,"Lunghezza",{"$f":"'Calcolo pesi'!$E$13","v":250},null,null,{"$f":"'Calcolo pesi'!$E$16","v":5000},{"$f":"G22*G22*3.14/4*J22*K21/1000000000","v":662.34375}]
[2,"Barra Quadra","Lato",null,null,"Lunghezza",{"$f":"'Calcolo pesi'!$E$13","v":250},null,null,{"$f":"'Calcolo pesi'!$E$16","v":5000},{"$f":"G23*G23*J23*K21/1000000000","v":843.75}]
[3,"Barra piatta","Lato 1","lato2",null,"Lunghezza",{"$f":"'Calcolo pesi'!$E$13","v":250},{"$f":"'Calcolo pesi'!$E$14","v":885},null,{"$f":"'Calcolo pesi'!$E$16","v":5000},{"$f":"G24*H24*J24*K21/1000000000","v":2986.875}]
[4,"Esagono","Chiave",null,null,"Lunghezza",{"$f":"'Calcolo pesi'!$E$13","v":250},null,null,{"$f":"'Calcolo pesi'!$E$16","v":5000},{"$f":"(G25/2)^2*3/0.866*J25*K21/1000000000","v":730.7303695150116}]
[5,"Tubo tondo (øe,s)","Diametro esterno","Spessore",null,"Lunghezza",{"$f":"'Calcolo pesi'!$E$13","v":250},{"$f":"'Calcolo pesi'!$E$14","v":885},null,{"$f":"'Calcolo pesi'!$E$16","v":5000},{"$f":"3.14*(G26*G26/4-(G26-2*H26)*(G26-2*H26)/4)*J26*K21/1000000000","v":-23822.12025}]
[6,"Tubo tondo (øe,øi)","Diametro esterno","Diametro interno",null,"Lunghezza",{"$f":"'Calcolo pesi'!$E$13","v":250},{"$f":"'Calcolo pesi'!$E$14","v":885},null,{"$f":"'Calcolo pesi'!$E$16","v":5000},{"$f":"$K$21/1000000000*(G27*G27*3.14/4-H27*H27*3.14/4)*J27","v":-7637.8831874999996}]
[7,"Tubo quadro","Lato","Spessore",null,"Lunghezza",{"$f":"'Calcolo pesi'!$E$13","v":250},{"$f":"'Calcolo pesi'!$E$14","v":885},null,{"$f":"'Calcolo pesi'!$E$16","v":5000},{"$f":"((G28*G28-(G28-2*H28)*(G28-2*H28))*J28*K21/1000000000)","v":-30346.65}]
[8,"Tubo rettangolare","Lato 1","Lato 2 ","Spessore","Lunghezza",{"$f":"'Calcolo pesi'!$E$13","v":250},{"$f":"'Calcolo pesi'!$E$14","v":885},{"$f":"'Calcolo pesi'!$E$15","v":0},{"$f":"'Calcolo pesi'!$E$16","v":5000},{"$f":"(G29*H29-(G29-2*I29)*(H29-2*I29))*J29*K21/1000000000","v":0}]
[9,"Trave","Metro lineare",null,null,"Lunghezza",{"$f":"'Calcolo pesi'!$E$13","v":250},null,null,{"$f":"'Calcolo pesi'!$E$16","v":5000},{"$f":"G30*J30/1000","v":1250}]
[10,"Laser/pantografo","Superficie","Spessore",null,null,{"$f":"'Calcolo pesi'!$E$13","v":250},{"$f":"'Calcolo pesi'!$E$14","v":885},null,null,{"$f":"$K$21/1000000000*G31*H31","v":0.59737499999999999}]